Package: XeniumIO Version: 1.3.0 Command: /Library/Frameworks/R.framework/Resources/bin/R CMD build --keep-empty-dirs --no-resave-data XeniumIO StartedAt: 2025-11-17 19:02:55 -0500 (Mon, 17 Nov 2025) EndedAt: 2025-11-17 19:03:14 -0500 (Mon, 17 Nov 2025) EllapsedTime: 19.2 seconds RetCode: 0 Status: OK PackageFile: XeniumIO_1.3.0.tar.gz PackageFileSize: 229.4 KiB