Package: XeniumIO Version: 1.3.0 Command: rm -rf XeniumIO.buildbin-libdir && mkdir XeniumIO.buildbin-libdir && /Users/biocbuild/BBS/utils/build-universal.sh XeniumIO_1.3.0.tar.gz /Library/Frameworks/R.framework/Resources/bin/R XeniumIO.buildbin-libdir StartedAt: 2025-11-18 00:58:03 -0500 (Tue, 18 Nov 2025) EndedAt: 2025-11-18 00:58:16 -0500 (Tue, 18 Nov 2025) EllapsedTime: 13.3 seconds RetCode: 0 Status: OK PackageFile: XeniumIO_1.3.0.tgz PackageFileSize: 277.1 KiB