Package: XVector Version: 0.49.1 Command: /home/biocbuild/bbs-3.22-bioc/R/bin/R CMD INSTALL XVector StartedAt: 2025-09-29 15:13:45 -0400 (Mon, 29 Sep 2025) EndedAt: 2025-09-29 15:14:00 -0400 (Mon, 29 Sep 2025) EllapsedTime: 15.6 seconds RetCode: 0 Status: OK