Package: XVector Version: 0.49.1 Command: /home/biocbuild/bbs-3.22-bioc/R/bin/R CMD build --keep-empty-dirs --no-resave-data --md5 XVector StartedAt: 2025-09-29 21:04:46 -0400 (Mon, 29 Sep 2025) EndedAt: 2025-09-29 21:04:47 -0400 (Mon, 29 Sep 2025) EllapsedTime: 1.0 seconds RetCode: 0 Status: OK PackageFile: XVector_0.49.1.tar.gz PackageFileSize: 68.58 KiB