Package: VplotR Version: 1.21.0 Command: /home/biocbuild/bbs-3.23-bioc/R/bin/R CMD INSTALL VplotR StartedAt: 2025-11-14 15:50:52 -0500 (Fri, 14 Nov 2025) EndedAt: 2025-11-14 15:51:24 -0500 (Fri, 14 Nov 2025) EllapsedTime: 31.5 seconds RetCode: 0 Status: OK