Package: VplotR Version: 1.21.0 Command: /home/biocbuild/bbs-3.23-bioc/R/bin/R CMD build --keep-empty-dirs --no-resave-data VplotR StartedAt: 2025-11-14 20:43:36 -0500 (Fri, 14 Nov 2025) EndedAt: 2025-11-14 20:45:21 -0500 (Fri, 14 Nov 2025) EllapsedTime: 105.1 seconds RetCode: 0 Status: OK PackageFile: VplotR_1.21.0.tar.gz PackageFileSize: 5.154 MiB