Package: VplotR Version: 1.19.1 Command: /Library/Frameworks/R.framework/Resources/bin/R CMD INSTALL VplotR StartedAt: 2025-10-27 15:24:58 -0400 (Mon, 27 Oct 2025) EndedAt: 2025-10-27 15:25:10 -0400 (Mon, 27 Oct 2025) EllapsedTime: 12.4 seconds RetCode: 0 Status: OK