Package: VariantTools Version: 1.53.0 Command: /home/biocbuild/bbs-3.23-bioc/R/bin/R CMD INSTALL VariantTools StartedAt: 2025-11-07 15:42:41 -0500 (Fri, 07 Nov 2025) EndedAt: 2025-11-07 15:43:22 -0500 (Fri, 07 Nov 2025) EllapsedTime: 40.8 seconds RetCode: 0 Status: OK