Package: VariantTools Version: 1.51.0 Command: /Library/Frameworks/R.framework/Resources/bin/R CMD INSTALL VariantTools StartedAt: 2025-10-15 15:38:12 -0400 (Wed, 15 Oct 2025) EndedAt: 2025-10-15 15:39:08 -0400 (Wed, 15 Oct 2025) EllapsedTime: 56.1 seconds RetCode: 0 Status: OK