Package: VariantTools Version: 1.51.0 Command: /Library/Frameworks/R.framework/Resources/bin/R CMD build --keep-empty-dirs --no-resave-data VariantTools StartedAt: 2025-10-15 19:53:39 -0400 (Wed, 15 Oct 2025) EndedAt: 2025-10-15 19:54:50 -0400 (Wed, 15 Oct 2025) EllapsedTime: 70.8 seconds RetCode: 1 Status: ERROR PackageFile: None PackageFileSize: NA