Package: VariantAnnotation Version: 1.57.0 Command: /home/biocbuild/bbs-3.23-bioc/R/bin/R CMD INSTALL VariantAnnotation StartedAt: 2025-11-13 15:39:25 -0500 (Thu, 13 Nov 2025) EndedAt: 2025-11-13 15:40:35 -0500 (Thu, 13 Nov 2025) EllapsedTime: 70.2 seconds RetCode: 0 Status: OK