Package: VarCon Version: 1.17.0 Command: /home/biocbuild/bbs-3.22-bioc/R/bin/R CMD INSTALL VarCon StartedAt: 2025-10-06 15:32:27 -0400 (Mon, 06 Oct 2025) EndedAt: 2025-10-06 15:33:05 -0400 (Mon, 06 Oct 2025) EllapsedTime: 38.5 seconds RetCode: 0 Status: OK