Package: VCFArray Version: 1.27.0 Command: /home/biocbuild/bbs-3.23-bioc/R/bin/R CMD INSTALL VCFArray StartedAt: 2025-11-06 15:57:18 -0500 (Thu, 06 Nov 2025) EndedAt: 2025-11-06 15:58:01 -0500 (Thu, 06 Nov 2025) EllapsedTime: 43.6 seconds RetCode: 0 Status: OK