Package: VCFArray Version: 1.27.0 Command: /home/biocbuild/bbs-3.23-bioc/R/bin/R CMD build --keep-empty-dirs --no-resave-data VCFArray StartedAt: 2025-11-06 20:34:15 -0500 (Thu, 06 Nov 2025) EndedAt: 2025-11-06 20:35:26 -0500 (Thu, 06 Nov 2025) EllapsedTime: 71.1 seconds RetCode: 0 Status: OK PackageFile: VCFArray_1.27.0.tar.gz PackageFileSize: 302.7 KiB