Package: UniProt.ws Version: 2.49.4 Command: /home/biocbuild/bbs-3.22-bioc/R/bin/R CMD INSTALL UniProt.ws StartedAt: 2025-10-06 15:32:00 -0400 (Mon, 06 Oct 2025) EndedAt: 2025-10-06 15:32:14 -0400 (Mon, 06 Oct 2025) EllapsedTime: 14.4 seconds RetCode: 0 Status: OK