Package: UniProt.ws Version: 2.49.4 Command: /home/biocbuild/bbs-3.22-bioc/R/bin/R CMD build --keep-empty-dirs --no-resave-data --md5 UniProt.ws StartedAt: 2025-10-06 20:38:09 -0400 (Mon, 06 Oct 2025) EndedAt: 2025-10-06 20:38:35 -0400 (Mon, 06 Oct 2025) EllapsedTime: 26.0 seconds RetCode: 0 Status: OK PackageFile: UniProt.ws_2.49.4.tar.gz PackageFileSize: 241.9 KiB