Package: Ularcirc Version: 1.27.2 Command: /home/biocbuild/bbs-3.22-bioc/R/bin/R CMD INSTALL Ularcirc StartedAt: 2025-09-30 15:41:22 -0400 (Tue, 30 Sep 2025) EndedAt: 2025-09-30 15:41:32 -0400 (Tue, 30 Sep 2025) EllapsedTime: 9.8 seconds RetCode: 0 Status: OK