Package: Ularcirc Version: 1.27.2 Command: /home/biocbuild/bbs-3.22-bioc/R/bin/R CMD build --keep-empty-dirs --no-resave-data --md5 Ularcirc StartedAt: 2025-09-30 20:37:49 -0400 (Tue, 30 Sep 2025) EndedAt: 2025-09-30 20:38:02 -0400 (Tue, 30 Sep 2025) EllapsedTime: 13.0 seconds RetCode: 0 Status: OK PackageFile: Ularcirc_1.27.2.tar.gz PackageFileSize: 5.219 MiB