Package: TreeSummarizedExperiment Version: 2.19.0 Command: /Library/Frameworks/R.framework/Resources/bin/R CMD INSTALL TreeSummarizedExperiment StartedAt: 2025-11-25 15:42:31 -0500 (Tue, 25 Nov 2025) EndedAt: 2025-11-25 15:43:14 -0500 (Tue, 25 Nov 2025) EllapsedTime: 43.0 seconds RetCode: 0 Status: OK