Package: TreeSummarizedExperiment Version: 2.19.0 Command: /Library/Frameworks/R.framework/Resources/bin/R CMD INSTALL TreeSummarizedExperiment StartedAt: 2025-11-21 15:15:03 -0500 (Fri, 21 Nov 2025) EndedAt: 2025-11-21 15:15:16 -0500 (Fri, 21 Nov 2025) EllapsedTime: 12.7 seconds RetCode: 0 Status: OK