Package: TreeSummarizedExperiment Version: 2.19.0 Command: /Library/Frameworks/R.framework/Resources/bin/R CMD build --keep-empty-dirs --no-resave-data TreeSummarizedExperiment StartedAt: 2025-11-21 17:58:44 -0500 (Fri, 21 Nov 2025) EndedAt: 2025-11-21 17:59:13 -0500 (Fri, 21 Nov 2025) EllapsedTime: 28.3 seconds RetCode: 0 Status: OK PackageFile: TreeSummarizedExperiment_2.19.0.tar.gz PackageFileSize: 1.104 MiB