Package: TransView Version: 1.53.1 Command: /home/biocbuild/bbs-3.22-bioc/R/bin/R CMD INSTALL TransView StartedAt: 2025-10-14 15:15:43 -0400 (Tue, 14 Oct 2025) EndedAt: 2025-10-14 15:15:59 -0400 (Tue, 14 Oct 2025) EllapsedTime: 15.8 seconds RetCode: 0 Status: OK