Package: TargetScore Version: 1.49.0 Command: /Library/Frameworks/R.framework/Resources/bin/R CMD INSTALL TargetScore StartedAt: 2025-11-27 15:02:57 -0500 (Thu, 27 Nov 2025) EndedAt: 2025-11-27 15:03:00 -0500 (Thu, 27 Nov 2025) EllapsedTime: 3.1 seconds RetCode: 0 Status: OK