Package: TRESS Version: 1.15.0 Command: /home/biocbuild/bbs-3.22-bioc/R/bin/R CMD INSTALL TRESS StartedAt: 2025-10-07 15:38:12 -0400 (Tue, 07 Oct 2025) EndedAt: 2025-10-07 15:38:48 -0400 (Tue, 07 Oct 2025) EllapsedTime: 35.2 seconds RetCode: 0 Status: OK