Package: TRESS Version: 1.15.0 Command: /home/biocbuild/bbs-3.22-bioc/R/bin/R CMD build --keep-empty-dirs --no-resave-data --md5 TRESS StartedAt: 2025-10-06 20:34:48 -0400 (Mon, 06 Oct 2025) EndedAt: 2025-10-06 20:34:49 -0400 (Mon, 06 Oct 2025) EllapsedTime: 1.0 seconds RetCode: 0 Status: OK PackageFile: TRESS_1.15.0.tar.gz PackageFileSize: 486.9 KiB