Package: TPP2D Version: 1.25.2 Command: /home/biocbuild/bbs-3.22-bioc/R/bin/R CMD INSTALL TPP2D StartedAt: 2025-10-17 15:08:34 -0400 (Fri, 17 Oct 2025) EndedAt: 2025-10-17 15:08:45 -0400 (Fri, 17 Oct 2025) EllapsedTime: 10.7 seconds RetCode: 0 Status: OK