Package: TCGAutils Version: 1.31.3 Command: /home/biocbuild/bbs-3.23-bioc/R/bin/R CMD build --keep-empty-dirs --no-resave-data TCGAutils StartedAt: 2025-11-23 20:27:04 -0500 (Sun, 23 Nov 2025) EndedAt: 2025-11-23 20:29:50 -0500 (Sun, 23 Nov 2025) EllapsedTime: 165.4 seconds RetCode: 0 Status: OK PackageFile: TCGAutils_1.31.3.tar.gz PackageFileSize: 405.8 KiB