Package: TCGAutils Version: 1.31.3 Command: /Library/Frameworks/R.framework/Resources/bin/R CMD INSTALL TCGAutils StartedAt: 2025-11-17 15:36:45 -0500 (Mon, 17 Nov 2025) EndedAt: 2025-11-17 15:37:34 -0500 (Mon, 17 Nov 2025) EllapsedTime: 49.5 seconds RetCode: 0 Status: OK