Package: TCGAutils Version: 1.31.3 Command: /Library/Frameworks/R.framework/Resources/bin/R CMD build --keep-empty-dirs --no-resave-data TCGAutils StartedAt: 2025-11-17 19:15:59 -0500 (Mon, 17 Nov 2025) EndedAt: 2025-11-17 19:19:56 -0500 (Mon, 17 Nov 2025) EllapsedTime: 237.1 seconds RetCode: 0 Status: OK PackageFile: TCGAutils_1.31.3.tar.gz PackageFileSize: 399.2 KiB