Package: TCGAutils Version: 1.31.3 Command: rm -rf TCGAutils.buildbin-libdir && mkdir TCGAutils.buildbin-libdir && /Users/biocbuild/BBS/utils/build-universal.sh TCGAutils_1.31.3.tar.gz /Library/Frameworks/R.framework/Resources/bin/R TCGAutils.buildbin-libdir StartedAt: 2025-11-18 07:27:55 -0500 (Tue, 18 Nov 2025) EndedAt: 2025-11-18 07:28:50 -0500 (Tue, 18 Nov 2025) EllapsedTime: 55.6 seconds RetCode: 0 Status: OK PackageFile: TCGAutils_1.31.3.tgz PackageFileSize: 524.4 KiB