Package: TCGAutils Version: 1.31.3 Command: rm -rf TCGAutils.buildbin-libdir && mkdir TCGAutils.buildbin-libdir && /Users/biocbuild/BBS/utils/build-universal.sh TCGAutils_1.31.3.tar.gz /Library/Frameworks/R.framework/Resources/bin/R TCGAutils.buildbin-libdir StartedAt: 2025-11-13 23:59:24 -0500 (Thu, 13 Nov 2025) EndedAt: 2025-11-13 23:59:44 -0500 (Thu, 13 Nov 2025) EllapsedTime: 19.6 seconds RetCode: 0 Status: OK PackageFile: TCGAutils_1.31.3.tgz PackageFileSize: 526.3 KiB