Package: TAPseq Version: 1.21.0 Command: /home/biocbuild/bbs-3.22-bioc/R/bin/R CMD INSTALL TAPseq StartedAt: 2025-10-01 15:45:47 -0400 (Wed, 01 Oct 2025) EndedAt: 2025-10-01 15:46:37 -0400 (Wed, 01 Oct 2025) EllapsedTime: 50.8 seconds RetCode: 0 Status: OK