Package: TAPseq Version: 1.21.0 Command: /home/biocbuild/bbs-3.22-bioc/R/bin/R CMD build --keep-empty-dirs --no-resave-data --md5 TAPseq StartedAt: 2025-10-01 20:48:41 -0400 (Wed, 01 Oct 2025) EndedAt: 2025-10-01 20:53:18 -0400 (Wed, 01 Oct 2025) EllapsedTime: 276.5 seconds RetCode: 0 Status: OK PackageFile: TAPseq_1.21.0.tar.gz PackageFileSize: 2.565 MiB