Package: SummarizedExperiment Version: 1.39.2 Command: /home/biocbuild/bbs-3.22-bioc/R/bin/R CMD INSTALL SummarizedExperiment StartedAt: 2025-10-23 15:17:02 -0400 (Thu, 23 Oct 2025) EndedAt: 2025-10-23 15:17:28 -0400 (Thu, 23 Oct 2025) EllapsedTime: 26.4 seconds RetCode: 0 Status: OK