Package: SummarizedExperiment Version: 1.39.2 Command: /home/biocbuild/bbs-3.22-bioc/R/bin/R CMD build --keep-empty-dirs --no-resave-data --md5 SummarizedExperiment StartedAt: 2025-10-22 20:25:05 -0400 (Wed, 22 Oct 2025) EndedAt: 2025-10-22 20:25:50 -0400 (Wed, 22 Oct 2025) EllapsedTime: 45.0 seconds RetCode: 0 Status: OK PackageFile: SummarizedExperiment_1.39.2.tar.gz PackageFileSize: 674.8 KiB