Package: SubCellBarCode Version: 1.25.0 Command: /home/biocbuild/R/R/bin/R CMD INSTALL SubCellBarCode StartedAt: 2025-10-02 20:47:38 -0000 (Thu, 02 Oct 2025) EndedAt: 2025-10-02 20:48:11 -0000 (Thu, 02 Oct 2025) EllapsedTime: 32.9 seconds RetCode: 0 Status: OK