Package: SubCellBarCode Version: 1.25.0 Command: /home/biocbuild/R/R/bin/R CMD build --keep-empty-dirs --no-resave-data SubCellBarCode StartedAt: 2025-10-07 03:21:47 -0000 (Tue, 07 Oct 2025) EndedAt: 2025-10-07 03:28:23 -0000 (Tue, 07 Oct 2025) EllapsedTime: 396.3 seconds RetCode: 0 Status: OK PackageFile: SubCellBarCode_1.25.0.tar.gz PackageFileSize: 1.598 MiB