Package: SubCellBarCode Version: 1.27.0 Command: /home/biocbuild/bbs-3.23-bioc/R/bin/R CMD INSTALL SubCellBarCode StartedAt: 2025-11-05 15:32:47 -0500 (Wed, 05 Nov 2025) EndedAt: 2025-11-05 15:33:11 -0500 (Wed, 05 Nov 2025) EllapsedTime: 24.3 seconds RetCode: 0 Status: OK