Package: StructuralVariantAnnotation Version: 1.27.0 Command: /home/biocbuild/bbs-3.23-bioc/R/bin/R CMD INSTALL StructuralVariantAnnotation StartedAt: 2025-11-13 15:50:42 -0500 (Thu, 13 Nov 2025) EndedAt: 2025-11-13 15:51:23 -0500 (Thu, 13 Nov 2025) EllapsedTime: 41.0 seconds RetCode: 0 Status: OK