Package: StabMap Version: 1.5.0 Command: rm -rf StabMap.buildbin-libdir && mkdir StabMap.buildbin-libdir && /Users/biocbuild/BBS/utils/build-universal.sh StabMap_1.5.0.tar.gz /Library/Frameworks/R.framework/Resources/bin/R StabMap.buildbin-libdir StartedAt: 2025-11-28 00:06:48 -0500 (Fri, 28 Nov 2025) EndedAt: 2025-11-28 00:07:00 -0500 (Fri, 28 Nov 2025) EllapsedTime: 11.3 seconds RetCode: 0 Status: OK PackageFile: StabMap_1.5.0.tgz PackageFileSize: 1.745 MiB