Package: SpotSweeper Version: 1.5.0 Command: /home/biocbuild/bbs-3.22-bioc/R/bin/R CMD INSTALL SpotSweeper StartedAt: 2025-10-08 15:35:12 -0400 (Wed, 08 Oct 2025) EndedAt: 2025-10-08 15:35:54 -0400 (Wed, 08 Oct 2025) EllapsedTime: 42.9 seconds RetCode: 0 Status: OK