Package: SplicingFactory Version: 1.17.0 Command: /Library/Frameworks/R.framework/Resources/bin/R CMD INSTALL SplicingFactory StartedAt: 2025-10-22 15:14:23 -0400 (Wed, 22 Oct 2025) EndedAt: 2025-10-22 15:14:31 -0400 (Wed, 22 Oct 2025) EllapsedTime: 8.2 seconds RetCode: 0 Status: OK