Package: SplicingFactory Version: 1.17.0 Command: /Library/Frameworks/R.framework/Resources/bin/R CMD build --keep-empty-dirs --no-resave-data SplicingFactory StartedAt: 2025-10-22 17:53:46 -0400 (Wed, 22 Oct 2025) EndedAt: 2025-10-22 17:54:01 -0400 (Wed, 22 Oct 2025) EllapsedTime: 15.2 seconds RetCode: 0 Status: OK PackageFile: SplicingFactory_1.17.0.tar.gz PackageFileSize: 791.1 KiB