Package: SpliceWiz Version: 1.11.0 Command: /home/biocbuild/bbs-3.22-bioc/R/bin/R CMD INSTALL SpliceWiz StartedAt: 2025-10-08 15:48:27 -0400 (Wed, 08 Oct 2025) EndedAt: 2025-10-08 15:50:33 -0400 (Wed, 08 Oct 2025) EllapsedTime: 126.5 seconds RetCode: 0 Status: OK