Package: SpliceWiz Version: 1.11.0 Command: /home/biocbuild/bbs-3.22-bioc/R/bin/R CMD build --keep-empty-dirs --no-resave-data --md5 SpliceWiz StartedAt: 2025-10-08 20:40:44 -0400 (Wed, 08 Oct 2025) EndedAt: 2025-10-08 20:46:31 -0400 (Wed, 08 Oct 2025) EllapsedTime: 347.3 seconds RetCode: 0 Status: OK PackageFile: SpliceWiz_1.11.0.tar.gz PackageFileSize: 4.828 MiB