Package: SpectriPy Version: 1.1.0 Command: /home/biocbuild/bbs-3.23-bioc/R/bin/R CMD INSTALL SpectriPy StartedAt: 2025-11-14 15:15:35 -0500 (Fri, 14 Nov 2025) EndedAt: 2025-11-14 15:16:06 -0500 (Fri, 14 Nov 2025) EllapsedTime: 31.6 seconds RetCode: 0 Status: OK