Package: SpectriPy Version: 1.1.0 Command: /Library/Frameworks/R.framework/Resources/bin/R CMD INSTALL SpectriPy StartedAt: 2025-11-16 20:17:43 -0500 (Sun, 16 Nov 2025) EndedAt: 2025-11-16 20:21:33 -0500 (Sun, 16 Nov 2025) EllapsedTime: 229.8 seconds RetCode: 0 Status: OK