Package: SpectriPy Version: 1.1.0 Command: /Library/Frameworks/R.framework/Resources/bin/R CMD build --keep-empty-dirs --no-resave-data SpectriPy StartedAt: 2025-11-16 23:49:33 -0500 (Sun, 16 Nov 2025) EndedAt: 2025-11-16 23:52:14 -0500 (Sun, 16 Nov 2025) EllapsedTime: 161.0 seconds RetCode: 0 Status: OK PackageFile: SpectriPy_1.1.0.tar.gz PackageFileSize: 1002 KiB