Package: SpectriPy Version: 1.1.0 Command: rm -rf SpectriPy.buildbin-libdir && mkdir SpectriPy.buildbin-libdir && /Users/biocbuild/BBS/utils/build-universal.sh SpectriPy_1.1.0.tar.gz /Library/Frameworks/R.framework/Resources/bin/R SpectriPy.buildbin-libdir StartedAt: 2025-11-17 07:19:55 -0500 (Mon, 17 Nov 2025) EndedAt: 2025-11-17 07:21:02 -0500 (Mon, 17 Nov 2025) EllapsedTime: 67.3 seconds RetCode: 0 Status: OK PackageFile: SpectriPy_1.1.0.tgz PackageFileSize: 1.078 MiB