Package: SpectriPy Version: 0.99.13 Command: /Library/Frameworks/R.framework/Resources/bin/R CMD INSTALL SpectriPy StartedAt: 2025-10-22 15:10:30 -0400 (Wed, 22 Oct 2025) EndedAt: 2025-10-22 15:10:38 -0400 (Wed, 22 Oct 2025) EllapsedTime: 8.6 seconds RetCode: 1 Status: ERROR